BEGIN:VCALENDAR
VERSION:2.0
PRODID:-//calendar/web//NONSGML v1.0//EN
BEGIN:VEVENT
UID:2401
DTSTAMP:20230809T210000Z
DTSTART:20230809T210000Z
DTEND:20230813T205900Z
SUMMARY:Spor Bilimleri Fakültesi Özel Yetenek Ön Kayıt Evraklarının İncelenmesi
DESCRIPTION:
END:VEVENT
END:VCALENDAR
