BEGIN:VCALENDAR
VERSION:2.0
PRODID:-//calendar/web//NONSGML v1.0//EN
BEGIN:VEVENT
UID:2402
DTSTAMP:20230814T210000Z
DTSTART:20230814T210000Z
DTEND:20230815T205900Z
SUMMARY:Spor Bilimleri Fakültesi Özel Yetenek Sınavına (Atletizm) Girecek Aday Öğrenci Listelerinin İlan Edilmesi
DESCRIPTION:
END:VEVENT
END:VCALENDAR
