BEGIN:VCALENDAR
VERSION:2.0
PRODID:-//calendar/web//NONSGML v1.0//EN
BEGIN:VEVENT
UID:2405
DTSTAMP:20230903T210000Z
DTSTART:20230903T210000Z
DTEND:20230905T205900Z
SUMMARY:Spor Bilimleri Fakültesi Özel Yetenek Sınavı Asil Adayların Kayıt İşlemleri
DESCRIPTION:
END:VEVENT
END:VCALENDAR
