BEGIN:VCALENDAR
VERSION:2.0
PRODID:-//calendar/web//NONSGML v1.0//EN
BEGIN:VEVENT
UID:2406
DTSTAMP:20230905T210000Z
DTSTART:20230905T210000Z
DTEND:20230906T205900Z
SUMMARY:Spor Bilimleri Fakültesi Özel Yetenek Yedek Öğrencilerin İlanı ve Kayıtlarının Alınması
DESCRIPTION:
END:VEVENT
END:VCALENDAR
