BEGIN:VCALENDAR
VERSION:2.0
PRODID:-//calendar/web//NONSGML v1.0//EN
BEGIN:VEVENT
UID:2407
DTSTAMP:20230814T210000Z
DTSTART:20230814T210000Z
DTEND:20230817T205900Z
SUMMARY:Atatürk Eğitim Fakültesi Özel Yetenek Başvuru ve Önkayıt
DESCRIPTION:
END:VEVENT
END:VCALENDAR
