BEGIN:VCALENDAR
VERSION:2.0
PRODID:-//calendar/web//NONSGML v1.0//EN
BEGIN:VEVENT
UID:2408
DTSTAMP:20230820T210000Z
DTSTART:20230820T210000Z
DTEND:20230823T205900Z
SUMMARY:Atatürk Eğitim Fakültesi Özel Yetenek Sınav Tarihleri
DESCRIPTION:
END:VEVENT
END:VCALENDAR
