BEGIN:VCALENDAR
VERSION:2.0
PRODID:-//calendar/web//NONSGML v1.0//EN
BEGIN:VEVENT
UID:2409
DTSTAMP:20230824T210000Z
DTSTART:20230824T210000Z
DTEND:20230825T205900Z
SUMMARY:Atatürk Eğitim Fakültesi Özel Yetenek Sınav Sonuçlarının İlanı
DESCRIPTION:
END:VEVENT
END:VCALENDAR
