BEGIN:VCALENDAR
VERSION:2.0
PRODID:-//calendar/web//NONSGML v1.0//EN
BEGIN:VEVENT
UID:2412
DTSTAMP:20230907T210000Z
DTSTART:20230907T210000Z
DTEND:20230908T205900Z
SUMMARY:Atatürk Eğitim Fakültesi Özel Yetenek Sınavı Yedek Kontenjan İlanı
DESCRIPTION:
END:VEVENT
END:VCALENDAR
