BEGIN:VCALENDAR
VERSION:2.0
PRODID:-//calendar/web//NONSGML v1.0//EN
BEGIN:VEVENT
UID:2413
DTSTAMP:20230910T210000Z
DTSTART:20230910T210000Z
DTEND:20230913T205900Z
SUMMARY:Atatürk Eğitim Fakültesi Özel Yetenek Sınavı İçin Yedeklerden Dilekçe Alınması
DESCRIPTION:
END:VEVENT
END:VCALENDAR
