BEGIN:VCALENDAR
VERSION:2.0
PRODID:-//calendar/web//NONSGML v1.0//EN
BEGIN:VEVENT
UID:2415
DTSTAMP:20230821T210000Z
DTSTART:20230821T210000Z
DTEND:20230824T205900Z
SUMMARY:Güzel Sanatlar Fakültesi Özel Yetenek Sınavı Başvuru ve Önkayıt
DESCRIPTION:
END:VEVENT
END:VCALENDAR
