BEGIN:VCALENDAR
VERSION:2.0
PRODID:-//calendar/web//NONSGML v1.0//EN
BEGIN:VEVENT
UID:2418
DTSTAMP:20230828T210000Z
DTSTART:20230828T210000Z
DTEND:20230829T205900Z
SUMMARY:Güzel Sanatlar Fakültesi Özel Yetenek Sınavı Fotoğraf Bölümü Eleme Sınavı
DESCRIPTION:
END:VEVENT
END:VCALENDAR
