BEGIN:VCALENDAR
VERSION:2.0
PRODID:-//calendar/web//NONSGML v1.0//EN
BEGIN:VEVENT
UID:2419
DTSTAMP:20230906T210000Z
DTSTART:20230906T210000Z
DTEND:20230907T205900Z
SUMMARY:Güzel Sanatlar Fakültesi Müzik Bölümü Özel Yetenek Sınavı  Birinci Aşama Eleme Sınavı Sonuçlarının İlanı
DESCRIPTION:
END:VEVENT
END:VCALENDAR
