BEGIN:VCALENDAR
VERSION:2.0
PRODID:-//calendar/web//NONSGML v1.0//EN
BEGIN:VEVENT
UID:2420
DTSTAMP:20230902T210000Z
DTSTART:20230902T210000Z
DTEND:20230903T205900Z
SUMMARY:Güzel Sanatlar Fakültesi Özel Yetenek Sınavı Fotoğraf Bölümü Birinci Aşama Eleme Sınavı  Sonuçlarının İlanı
DESCRIPTION:
END:VEVENT
END:VCALENDAR
