BEGIN:VCALENDAR
VERSION:2.0
PRODID:-//calendar/web//NONSGML v1.0//EN
BEGIN:VEVENT
UID:2424
DTSTAMP:20230909T210000Z
DTSTART:20230909T210000Z
DTEND:20230910T205900Z
SUMMARY:Güzel Sanatlar Fakültesi Özel Yetenek Sınavı İkinci Aşama Birinci Oturum Seçme Sınavları Sonuçlarının İlanı  (Çizim Sınavı)
DESCRIPTION:Ortak Sınav Yapan Bölümler (Geleneksel Türk Sanatları, Grafik Sanatlar,
Heykel, Resim, Seramik ve Cam, Tekstil Bölümleri) için
END:VEVENT
END:VCALENDAR
