BEGIN:VCALENDAR
VERSION:2.0
PRODID:-//calendar/web//NONSGML v1.0//EN
BEGIN:VEVENT
UID:2427
DTSTAMP:20230921T210000Z
DTSTART:20230921T210000Z
DTEND:20230926T205900Z
SUMMARY:Güzel Sanatlar Fakültesi Özel Yetenek Yedek Kayıtlar
DESCRIPTION:
END:VEVENT
END:VCALENDAR
