BEGIN:VCALENDAR
VERSION:2.0
PRODID:-//calendar/web//NONSGML v1.0//EN
BEGIN:VEVENT
UID:2428
DTSTAMP:20230911T210000Z
DTSTART:20230911T210000Z
DTEND:20230914T205900Z
SUMMARY:Güzel Sanatlar Fakültesi Özel Yetenek Sınavı İkinci Aşama İkinci Oturum Seçme Sınavları (Dosya Değerlendirme ve Sözlü Görüşme)
DESCRIPTION:Ortak Sınav Yapan Bölümler (Geleneksel Türk Sanatları, Grafik Sanatlar,
Heykel, Resim, Seramik ve Cam, Tekstil Bölümleri) için
END:VEVENT
END:VCALENDAR
