BEGIN:VCALENDAR
VERSION:2.0
PRODID:-//calendar/web//NONSGML v1.0//EN
BEGIN:VEVENT
UID:2430
DTSTAMP:20230909T210000Z
DTSTART:20230909T210000Z
DTEND:20230910T205900Z
SUMMARY:Güzel Sanatlar Fakültesi Özel Yetenek Sınavı Fotoğraf Bölümü Sınavı Sonuçlarının İlanı
DESCRIPTION:
END:VEVENT
END:VCALENDAR
