BEGIN:VCALENDAR
VERSION:2.0
PRODID:-//calendar/web//NONSGML v1.0//EN
BEGIN:VEVENT
UID:2432
DTSTAMP:20230904T210000Z
DTSTART:20230904T210000Z
DTEND:20230907T205900Z
SUMMARY:Güzel Sanatlar Fakültesi Özel Yetenek Sınavı Fotoğraf Bölümü İkinci Aşama Seçme Sınavı
DESCRIPTION:
END:VEVENT
END:VCALENDAR
