BEGIN:VCALENDAR
VERSION:2.0
PRODID:-//calendar/web//NONSGML v1.0//EN
BEGIN:VEVENT
UID:2986
DTSTAMP:20260503T210000Z
DTSTART:20260503T210000Z
DTEND:20260508T205900Z
SUMMARY:Diş Hekimliği Fakültesi Mazeret Sınav Tarihleri
DESCRIPTION:Diş Hekimliği Fakültesi Mazeret Sınav Tarihleri
END:VEVENT
END:VCALENDAR
