BEGIN:VCALENDAR
VERSION:2.0
PRODID:-//calendar/web//NONSGML v1.0//EN
BEGIN:VEVENT
UID:3187
DTSTAMP:20260318T210000Z
DTSTART:20260318T210000Z
DTEND:20260319T205900Z
SUMMARY:Ramazan Bayramı Arefesi
DESCRIPTION:Ramazan Bayramı Arefesi
END:VEVENT
END:VCALENDAR
