BEGIN:VCALENDAR
VERSION:2.0
PRODID:-//calendar/web//NONSGML v1.0//EN
BEGIN:VEVENT
UID:3189
DTSTAMP:20260320T210000Z
DTSTART:20260320T210000Z
DTEND:20260321T205900Z
SUMMARY:Ramazan Bayramı - 2. Gün
DESCRIPTION:Ramazan Bayramı - 2. Gün
END:VEVENT
END:VCALENDAR
