BEGIN:VCALENDAR
VERSION:2.0
PRODID:-//calendar/web//NONSGML v1.0//EN
BEGIN:VEVENT
UID:3190
DTSTAMP:20260321T210000Z
DTSTART:20260321T210000Z
DTEND:20260322T205900Z
SUMMARY:Ramazan Bayramı - 3. Gün
DESCRIPTION:Ramazan Bayramı - 3. Gün
END:VEVENT
END:VCALENDAR
