BEGIN:VCALENDAR
VERSION:2.0
PRODID:-//calendar/web//NONSGML v1.0//EN
BEGIN:VEVENT
UID:933
DTSTAMP:20180827T210000Z
DTSTART:20180827T210000Z
DTEND:20180829T205900Z
SUMMARY:Güzel Sanatlar Fakültesi Özel Yetenek Sınavı 1. Aşama Seçme Sınavları
DESCRIPTION:(Ortak sınav yapan Geleneksel Türk Sanatları, Grafik,Heykel,Resim,Seramik ve Cam, Tekstil Bölümleri için)
END:VEVENT
END:VCALENDAR
