BEGIN:VCALENDAR
VERSION:2.0
PRODID:-//calendar/web//NONSGML v1.0//EN
BEGIN:VEVENT
UID:934
DTSTAMP:20180828T210000Z
DTSTART:20180828T210000Z
DTEND:20180829T205900Z
SUMMARY:Güzel Sanatlar Fakültesi Özel Yetenek Sınavı Fotoğraf Bölümü Eleme Sınavı
DESCRIPTION:
END:VEVENT
END:VCALENDAR
