BEGIN:VCALENDAR
VERSION:2.0
PRODID:-//calendar/web//NONSGML v1.0//EN
BEGIN:VEVENT
UID:935
DTSTAMP:20180831T210000Z
DTSTART:20180831T210000Z
DTEND:20180901T205900Z
SUMMARY:Güzel Sanatlar Fakültesi Özel Yetenek Sınavı 1. Aşama Eleme Sınavı Sonuçlarının İlanı
DESCRIPTION:
END:VEVENT
END:VCALENDAR
