BEGIN:VCALENDAR
VERSION:2.0
PRODID:-//calendar/web//NONSGML v1.0//EN
BEGIN:VEVENT
UID:936
DTSTAMP:20180902T210000Z
DTSTART:20180902T210000Z
DTEND:20180911T205900Z
SUMMARY:Güzel Sanatlar Fakültesi Özel Yetenek Sınavı 2. Aşama Seçme Sınavları 
DESCRIPTION:
END:VEVENT
END:VCALENDAR
