BEGIN:VCALENDAR
VERSION:2.0
PRODID:-//calendar/web//NONSGML v1.0//EN
BEGIN:VEVENT
UID:937
DTSTAMP:20180902T210000Z
DTSTART:20180902T210000Z
DTEND:20180905T205900Z
SUMMARY:Güzel Sanatlar Fakültesi Özel Yetenek Sınavı  Uygulama Sınavları
DESCRIPTION:(Ortak sınav yapan Geleneksel Türk Sanatları, Grafik,Heykel, Resim,Seramil ve Cam, Tekstil Bölümleri için)
END:VEVENT
END:VCALENDAR
