BEGIN:VCALENDAR
VERSION:2.0
PRODID:-//calendar/web//NONSGML v1.0//EN
BEGIN:VEVENT
UID:939
DTSTAMP:20180907T210000Z
DTSTART:20180907T210000Z
DTEND:20180908T205900Z
SUMMARY:Güzel Sanatlar Fakültesi Özel Yetenek Sınavı 2. Aşama Seçme Sınavları Sonuçlarının İlanı
DESCRIPTION:Saat:17.00
END:VEVENT
END:VCALENDAR
