BEGIN:VCALENDAR
VERSION:2.0
PRODID:-//calendar/web//NONSGML v1.0//EN
BEGIN:VEVENT
UID:940
DTSTAMP:20180909T210000Z
DTSTART:20180909T210000Z
DTEND:20180911T205900Z
SUMMARY:Güzel Sanatlar Fakültesi Özel Yetenek Sınavı 2. Aşama Seçme Sınavları {Dosya Değerlendirmesi ve Sözlü Görüşme}
DESCRIPTION:(ortak sınav yapan Geleneksel Türk Sanatları,Grafik, Heykel,Resim,Seramik ve Cam,Tekstil Bölümleri için)
END:VEVENT
END:VCALENDAR
