BEGIN:VCALENDAR
VERSION:2.0
PRODID:-//calendar/web//NONSGML v1.0//EN
BEGIN:VEVENT
UID:945
DTSTAMP:20180911T210000Z
DTSTART:20180911T210000Z
DTEND:20180912T205900Z
SUMMARY:Güzel Sanatlar Fakültesi Özel Yetenek Sınavı Tüm Bölümler İçin Sonuçlarının İlanı
DESCRIPTION:
END:VEVENT
END:VCALENDAR
