BEGIN:VCALENDAR
VERSION:2.0
PRODID:-//calendar/web//NONSGML v1.0//EN
BEGIN:VEVENT
UID:946
DTSTAMP:20180912T210000Z
DTSTART:20180912T210000Z
DTEND:20180917T205900Z
SUMMARY:Güzel Sanatlar Fakültesi Özel Yetenek Asil Kayıtlar
DESCRIPTION:
END:VEVENT
END:VCALENDAR
