BEGIN:VCALENDAR
VERSION:2.0
PRODID:-//calendar/web//NONSGML v1.0//EN
BEGIN:VEVENT
UID:947
DTSTAMP:20180917T210000Z
DTSTART:20180917T210000Z
DTEND:20180918T205900Z
SUMMARY:Güzel Sanatlar Fakültesi Özel Yetenek Yedek Kayıt İlanı
DESCRIPTION:
END:VEVENT
END:VCALENDAR
