BEGIN:VCALENDAR
VERSION:2.0
PRODID:-//calendar/web//NONSGML v1.0//EN
BEGIN:VEVENT
UID:948
DTSTAMP:20180918T210000Z
DTSTART:20180918T210000Z
DTEND:20180921T205900Z
SUMMARY:Güzel Sanatlar Fakültesi Özel Yetenek Yedek Kayıtlar
DESCRIPTION:
END:VEVENT
END:VCALENDAR
