BEGIN:VCALENDAR
VERSION:2.0
PRODID:-//calendar/web//NONSGML v1.0//EN
BEGIN:VEVENT
UID:954
DTSTAMP:20180805T210000Z
DTSTART:20180805T210000Z
DTEND:20180808T205900Z
SUMMARY:Atatürk Eğitim Fakültesi Resim-İş Öğretmenliği ve Müzik Öğretmenliği Özel Yetenek Sınavı Başvuru ve Kayıt
DESCRIPTION:
END:VEVENT
END:VCALENDAR
