BEGIN:VCALENDAR
VERSION:2.0
PRODID:-//calendar/web//NONSGML v1.0//EN
BEGIN:VEVENT
UID:955
DTSTAMP:20180828T210000Z
DTSTART:20180828T210000Z
DTEND:20180829T205900Z
SUMMARY:Atatürk Eğitim fakültesi Resim-İş Öğretmenliği 1.Aşama Özel Yetenek Sınavı
DESCRIPTION:
END:VEVENT
END:VCALENDAR
