BEGIN:VCALENDAR
VERSION:2.0
PRODID:-//calendar/web//NONSGML v1.0//EN
BEGIN:VEVENT
UID:956
DTSTAMP:20180829T210000Z
DTSTART:20180829T210000Z
DTEND:20180830T205900Z
SUMMARY:Atatürk eğitim Fakültesi Resim-İş Öğretmenliği 1.Aşama Özel Yetenek Sınav Sonucunun İlanı
DESCRIPTION:
END:VEVENT
END:VCALENDAR
