BEGIN:VCALENDAR
VERSION:2.0
PRODID:-//calendar/web//NONSGML v1.0//EN
BEGIN:VEVENT
UID:958
DTSTAMP:20180902T210000Z
DTSTART:20180902T210000Z
DTEND:20180903T205900Z
SUMMARY:Atatürk eğitim Fakültesi Resim-İş Öğretmenliği Özel Yetenek Sınav Sonucunun İlanı
DESCRIPTION:
END:VEVENT
END:VCALENDAR
