BEGIN:VCALENDAR
VERSION:2.0
PRODID:-//calendar/web//NONSGML v1.0//EN
BEGIN:VEVENT
UID:960
DTSTAMP:20180905T210000Z
DTSTART:20180905T210000Z
DTEND:20180907T205900Z
SUMMARY:Atatürk eğitim Fakültesi Resim-İş Öğretmenliği  Özel Yetenek Yedek Kayıt
DESCRIPTION:
END:VEVENT
END:VCALENDAR
