BEGIN:VCALENDAR
VERSION:2.0
PRODID:-//calendar/web//NONSGML v1.0//EN
BEGIN:VEVENT
UID:965
DTSTAMP:20180828T210000Z
DTSTART:20180828T210000Z
DTEND:20180829T205900Z
SUMMARY:Atatürk eğitim Fakültesi Müzik Öğretmenliği  Özel Yetenek 3.Aşama Sınavı
DESCRIPTION:
END:VEVENT
END:VCALENDAR
