BEGIN:VCALENDAR
VERSION:2.0
PRODID:-//calendar/web//NONSGML v1.0//EN
BEGIN:VEVENT
UID:968
DTSTAMP:20180826T210000Z
DTSTART:20180826T210000Z
DTEND:20180827T205900Z
SUMMARY:Atatürk eğitim Fakültesi Müzik Öğretmenliği Özel Yetenek 1.Aşama Sınavı Sonuçlarının İlanı
DESCRIPTION:
END:VEVENT
END:VCALENDAR
