BEGIN:VCALENDAR
VERSION:2.0
PRODID:-//calendar/web//NONSGML v1.0//EN
BEGIN:VEVENT
UID:970
DTSTAMP:20180830T210000Z
DTSTART:20180830T210000Z
DTEND:20180831T205900Z
SUMMARY:Atatürk Eğitim Fakültesi Müzik Öğretmenliği  Özel Yetenek Sınav Sonuçlarının İlanı
DESCRIPTION:
END:VEVENT
END:VCALENDAR
