BEGIN:VCALENDAR
VERSION:2.0
PRODID:-//calendar/web//NONSGML v1.0//EN
BEGIN:VEVENT
UID:2773
DTSTAMP:20250319T210000Z
DTSTART:20250319T210000Z
DTEND:20250321T205900Z
SUMMARY:Yabancı Diller Yüksekokulu Bahar Yarıyılı 3. Ara Sınav Dönemi
DESCRIPTION:Yabancı Diller Yüksekokulu Bahar Yarıyılı 3. Ara Sınav Dönemi

END:VEVENT
END:VCALENDAR
