BEGIN:VCALENDAR
VERSION:2.0
PRODID:-//calendar/web//NONSGML v1.0//EN
BEGIN:VEVENT
UID:3143
DTSTAMP:20251107T210000Z
DTSTART:20251107T210000Z
DTEND:20251109T205900Z
SUMMARY:Fen Bilimleri Enstitüsü İş Güvenliği Uzaktan Öğretim Güz Yarıyılı Ara (Vize) Sınavı
DESCRIPTION:Fen Bilimleri Enstitüsü İş Güvenliği Uzaktan Öğretim Güz Yarıyılı Ara (Vize) Sınavı
END:VEVENT
END:VCALENDAR
