BEGIN:VCALENDAR
VERSION:2.0
PRODID:-//calendar/web//NONSGML v1.0//EN
BEGIN:VEVENT
UID:3144
DTSTAMP:20251121T210000Z
DTSTART:20251121T210000Z
DTEND:20251123T205900Z
SUMMARY:Fen Bilimleri Enstitüsü Mühendislik Yönetimi Uzaktan Öğretim Güz Yarıyılı Ara (Vize) Sınavı
DESCRIPTION:Fen Bilimleri Enstitüsü Mühendislik Yönetimi Uzaktan Öğretim Güz Yarıyılı Ara (Vize) Sınavı
END:VEVENT
END:VCALENDAR
