BEGIN:VCALENDAR
VERSION:2.0
PRODID:-//calendar/web//NONSGML v1.0//EN
BEGIN:VEVENT
UID:3145
DTSTAMP:20260116T210000Z
DTSTART:20260116T210000Z
DTEND:20260118T205900Z
SUMMARY:Fen Bilimleri Enstitüsü İş Güvenliği Uzaktan Öğretim Güz Yarıyılı Sonu (Final) Sınavı
DESCRIPTION:Fen Bilimleri Enstitüsü İş Güvenliği Uzaktan Öğretim Güz Yarıyılı Sonu (Final) Sınavı
END:VEVENT
END:VCALENDAR
