BEGIN:VCALENDAR
VERSION:2.0
PRODID:-//calendar/web//NONSGML v1.0//EN
BEGIN:VEVENT
UID:3146
DTSTAMP:20260123T210000Z
DTSTART:20260123T210000Z
DTEND:20260125T205900Z
SUMMARY:Fen Bilimleri Enstitüsü Mühendislik Yönetimi Uzaktan Öğretim Güz Yarıyılı Sonu (Final) Sınavı
DESCRIPTION:Fen Bilimleri Enstitüsü Mühendislik Yönetimi Uzaktan Öğretim Güz Yarıyılı Sonu (Final) Sınavı
END:VEVENT
END:VCALENDAR
