BEGIN:VCALENDAR
VERSION:2.0
PRODID:-//calendar/web//NONSGML v1.0//EN
BEGIN:VEVENT
UID:3147
DTSTAMP:20260206T210000Z
DTSTART:20260206T210000Z
DTEND:20260208T205900Z
SUMMARY:Fen Bilimleri Enstitüsü İş Güvenliği Uzaktan ve Mühendislik Yönetimi Uzaktan Öğretim Güz Yarıyılı Bütünleme Sınavı
DESCRIPTION:Fen Bilimleri Enstitüsü İş Güvenliği Uzaktan ve Mühendislik Yönetimi Uzaktan Öğretim Güz Yarıyılı Bütünleme Sınavı
END:VEVENT
END:VCALENDAR
